BEGIN:VCALENDAR
VERSION:2.0
PRODID:-//Aloft - ECPv6.15.20//NONSGML v1.0//EN
CALSCALE:GREGORIAN
METHOD:PUBLISH
X-WR-CALNAME:Aloft
X-ORIGINAL-URL:https://aloft.website
X-WR-CALDESC:Events for Aloft
REFRESH-INTERVAL;VALUE=DURATION:PT1H
X-Robots-Tag:noindex
X-PUBLISHED-TTL:PT1H
BEGIN:VTIMEZONE
TZID:Pacific/Honolulu
BEGIN:STANDARD
TZOFFSETFROM:-1000
TZOFFSETTO:-1000
TZNAME:HST
DTSTART:20220101T000000
END:STANDARD
END:VTIMEZONE
BEGIN:VTIMEZONE
TZID:UTC
BEGIN:STANDARD
TZOFFSETFROM:+0000
TZOFFSETTO:+0000
TZNAME:UTC
DTSTART:20220101T000000
END:STANDARD
END:VTIMEZONE
BEGIN:VEVENT
DTSTART;TZID=Pacific/Honolulu:20230628T000000
DTEND;TZID=Pacific/Honolulu:20230630T235959
DTSTAMP:20260424T144951
CREATED:20230430T063249Z
LAST-MODIFIED:20230430T064055Z
UID:195-1687910400-1688169599@aloft.website
SUMMARY:Youth in Aviation
DESCRIPTION:ALOFT along with Hawaii Life Flight pilot and youth mentor CJ Wetzler\, are hosting a three-day aviation summer camp (with cool airplanes\, helicopters\, and fire trucks) beginning Wednesday\, June 28\, through Friday\, June 30\, 2023.\n\nWhile the camp is geared toward inspiring an interest in aviation careers\, our big goal is equipping youth to become successful in the things that matter most.\n\n– There are only 12 spots available.\n– The suggested donation is $150.\n– $75 reserves your spot.\n-Financial assistance maybe available.\n\nMessage me Randell 808 234 9426 or CJ—(918) 728-9505—to receive a detailed schedule of events and how to register. Mahalo!\n—\n \nALOFT INC.\nNot-for-profit 501(3)c\nRandell Albertson\nAloftcharity@gmail.com\n8082349426
URL:https://aloft.website/event/youth-in-aviation/
END:VEVENT
BEGIN:VEVENT
DTSTART;TZID=UTC:20230313T090000
DTEND;TZID=UTC:20230315T150000
DTSTAMP:20260424T144951
CREATED:20230309T154606Z
LAST-MODIFIED:20230309T220246Z
UID:72-1678698000-1678892400@aloft.website
SUMMARY:March 13th-15th Spring Break Aviation Camp
DESCRIPTION:Life Skills with the principals of aviation. \n\nAloft Inc. presents: \n\n\n\n3 day Spring Break Aviation Camp for youth ages 11-18. \n\n\n\nMonday March 13th \n\n\n\n9am-3pm \n\n\n\n-Maui Aviators will be offering introductory flights that will earn participants hours towards their pilots license. \n\n\n\n-Life flight pilot CJ Wetzler will give a guided tour of their King Air aircraft and company operations. \n\n\n\n-Tour the East ramp and learn about the different aircrafts up close! \n\n\n\nDrop off:  Maui Aviators. \n\n\n\n*Parents or guardians will need to  park and enter to sign release forms in the Maui Aviators office. Anyone over the age of 16 entering the AOA secured area must bring a government I.D. \n\n\n\nTuesday March 14th \n\n\n\n9am-1pm \n\n\n\n-Tour of the Maui Air Traffic Control Tower and facilities. \n\n\n\n-Tour of Windward Aviation’s (Fire Helicopters) operation and maintenance facility. \n\n\n\n-Participants will be treated to a Fire Helicopter Air Show! \n\n\n\nDrop off: Maui Air Traffic Control Tower entrance \n\n\n\n\nhttps://maps.app.goo.gl/CP5DxdZNGcPDkPsR9?g_st=i\n\n\n\n\nPick up: Windward Aviation \n\n\n\nWednesday March 15th \n\n\n\n9am-1pm \n\n\n\n-Tour of the Kahului Airport Rescue and Fire Fighting Station. \n\n\n\n-Possible live fire burn (TBD). \n\n\n\nDrop off and pick up: Kahului Airport Fire Station \n\n\n\n\nhttps://maps.app.goo.gl/zatWxu1U9zUAt1jB9?g_st=i\n\n\n\n\nSuggested donation $150 for all three days. Only 10 spots available. \n\n\n\nParticipants will each receive a pilots log book. \n\n\n\nWhat to Bring: Lunch/snack\, water bottle. \n\n\n\nPlease wear closed-toed shoes and a hat for sun protection. \n\n\n\nPlease note that the majority of the activities will be in the secured Airport Operational Area (AOA)\,  participants are expected to pay close attention to facilitators\, stay with the group at all times\, and conduct themselves in a respectful and mindful manner. \n\n\n\n** Bonus session with Air Maui on Monday 4pm-6pm. ** for participants of camp. \n\n\n\nComplimentary15 minute flight tour in an Air Maui helicopter! \n\n\n\nNO ADDITIONAL COST. \n\n\n\nMust RSVP at time of registration. \n\n\n\nDrop off and pick up: Air Maui \n\n\n\nParents are invited and encouraged to stay for the entire duration. Release waivers will need to be signed. Please bring an I.D with you. \n\n\n\nFor enquiries or questions\, please contact Aloft \n\n\n\naloftcharity@gmail.com \n\n\n\n808-234-9426
URL:https://aloft.website/event/march-13th-15th-spring-break-aviation-camp/
END:VEVENT
END:VCALENDAR