BEGIN:VCALENDAR
VERSION:2.0
PRODID:-//Aloft - ECPv6.15.20//NONSGML v1.0//EN
CALSCALE:GREGORIAN
METHOD:PUBLISH
X-ORIGINAL-URL:https://aloft.website
X-WR-CALDESC:Events for Aloft
REFRESH-INTERVAL;VALUE=DURATION:PT1H
X-Robots-Tag:noindex
X-PUBLISHED-TTL:PT1H
BEGIN:VTIMEZONE
TZID:UTC
BEGIN:STANDARD
TZOFFSETFROM:+0000
TZOFFSETTO:+0000
TZNAME:UTC
DTSTART:20250101T000000
END:STANDARD
END:VTIMEZONE
BEGIN:VEVENT
DTSTART;TZID=UTC:20260809T000000
DTEND;TZID=UTC:20260810T235959
DTSTAMP:20260423T225632
CREATED:20250510T185548Z
LAST-MODIFIED:20250810T170714Z
UID:276-1786233600-1786406399@aloft.website
SUMMARY:Lanai Youth Aviation Camp 2026
DESCRIPTION:ALOFT\, with Pilot/Fire Fighter Albertson\, is hosting a 2-day aviation camp (with Airplanes\, Helicopters\, and Fire Trucks)!\nFor Lanai youth ages 12-18 \nSaturday—Day One\n9am-3pm \nMeet at Lanai Airport Fire Station \n\nHelicopter Pilot and Mechanic presentation\nFirst breakout interview session\nAirport Rescue and Fire Fighting tour\nSecond breakout interview session\n\nSunday—Day Two\n12:00 pm – 6:00 pm \nMeet at Lanai Airport Fire station \n\nEAA Young Eagles Introductory Flights\nAircraft Hot Rod Show\n\n*Snacks and water will be provided. Please inform facilitator in case of any allergies. \n$200 suggested donation. \nQuestions – 808-234-9426 \n\n\n                \n                        \n                            2026 Lanai Aviation Camp Interest/Pre-Register\n                             \n                        \n                        Youth's Name(Required)\n                            \n                            \n                                                    \n                                                    First\n                                                \n                            \n                            \n                                                    \n                                                    Last\n                                                \n                            \n                        Youth's Age(Required)Youth's T-Shirt Size (Youth or Adult?)(Required)Parent/Guardian Name(Required)\n                            \n                            \n                                                    \n                                                    First\n                                                \n                            \n                            \n                                                    \n                                                    Last\n                                                \n                            \n                        Parent/Guardian Phone Number(Required)Parent/Guardian Email(Required)\n                            \n                        Consents(Required)\n								\n								I agree to allow my youth to participate in an introductory flight.\n							\n								\n								I agree to allow my youth to participate in a helicopter ride.\n							\n								\n								I understand my youth will be accessing a secure airport ramp\, and near both sensitive and dangerous equipment.\n							\n								\n								I agree to make every effort to bring my youth each day.\n							Questions\, Comments\, Concerns?
URL:https://aloft.website/event/2026-lanai-youth-aviation-camp/
LOCATION:Lanai Airport\, Lanai Ave\, Lanai City\, HI\, 96763\, United States
CATEGORIES:Aviation Camp
END:VEVENT
END:VCALENDAR