BEGIN:VCALENDAR
VERSION:2.0
PRODID:-//Aloft - ECPv6.15.20//NONSGML v1.0//EN
CALSCALE:GREGORIAN
METHOD:PUBLISH
X-ORIGINAL-URL:https://aloft.website
X-WR-CALDESC:Events for Aloft
REFRESH-INTERVAL;VALUE=DURATION:PT1H
X-Robots-Tag:noindex
X-PUBLISHED-TTL:PT1H
BEGIN:VTIMEZONE
TZID:UTC
BEGIN:STANDARD
TZOFFSETFROM:+0000
TZOFFSETTO:+0000
TZNAME:UTC
DTSTART:20230101T000000
END:STANDARD
END:VTIMEZONE
BEGIN:VEVENT
DTSTART;TZID=UTC:20241115T160000
DTEND;TZID=UTC:20241117T130000
DTSTAMP:20260424T091012
CREATED:20241112T174516Z
LAST-MODIFIED:20241113T001940Z
UID:254-1731686400-1731848400@aloft.website
SUMMARY:Maui Youth Aviation Camp 2024 Nov 15\,16\, 17
DESCRIPTION:ALOFT\, with Fire Fighter Randell Albertson\, is hosting a 3-day aviation camp (with cool airplanes\, helicopters\, and fire trucks)!\nFor Maui youth ages 12-18 \nFriday 11/15—Day One\n4:00 pm – 6:00 pm \nDrop off and pick up at Air Maui Heliport \n\nHelicopter Flight\nAviation Maintenance presentation\nFirst breakout interview session\n\nSaturday 11/16 —Day Two\n9:00 am – 1:00 pm \nDrop off at Kahului Air Traffic Control Tower \nPick up at Kahului Airport Fire Station  \n\nAir Traffic Control Tower tour\nWindward Aviation Fire helicopter demonstration\nAirport Rescue and Fire Fighting tour\nSecond breakout interview session\n\nSunday 11/17 —Day Three\n9:00 am – 1:00 pm \nDrop off and pick up at Kahului Airport fire station \n\nPilot career path\nIntroductory Flight\nExperimental Aircraft presentation\nRamp and Airport Tour\n\n*Snacks and water will be provided. Please inform facilitator in case of any allergies. \n$200 suggested donation. $75 to secure your spot. \nQuestions – 808-234-9426
URL:https://aloft.website/event/maui-aviation-camp/
LOCATION:Kahului Airport\, 93 Kuhea St\,\, Kahului\, HI\, 96732\, United States
ATTACH;FMTTYPE=image/jpeg:https://aloft.website/wp-content/uploads/2023/03/IMG_1417-scaled-e1731435977465.jpg
END:VEVENT
BEGIN:VEVENT
DTSTART;TZID=UTC:20241122T160000
DTEND;TZID=UTC:20241124T130000
DTSTAMP:20260424T091012
CREATED:20241112T184913Z
LAST-MODIFIED:20241117T052138Z
UID:270-1732291200-1732453200@aloft.website
SUMMARY:Molokai Youth Aviation Camp 2024- Nov 22\, 23\, 24
DESCRIPTION:ALOFT\, with Fire Fighter Randell Albertson\, is hosting a 3-day aviation camp (with cool airplanes\, helicopters\, and fire trucks)!\nFor Moloka’i youth ages 13-18\nFriday—Day One\n4:00 pm – 6:00 pm \nMeet at Molokai Airport Heliport \n\nAir Maui Helicopter and Maintenance presentation\nFirst breakout interview session\n\nSaturday—Day Two\n9:00 am – 1:00 pm \nMeet at Molokai Air Tower \n\nAir Traffic Control Tower presentation\nAirport Rescue and Fire Fighting tour\nSecond breakout interview session\n\nSunday—Day Three\n9:00 am – 1:00 pm \n\nPilot career path presentation\nIntroductory Flight\n\n*Snacks and water will be provided. Please inform facilitator in case of any allergies. \n$200 suggested donation. $75 to secure your spot. \nQuestions – 808-234-9426
URL:https://aloft.website/event/2024-molokai-youth-aviation-camp/
LOCATION:Molokai Airport\, 3980 Airport Loop\, Ho'olehua\, HI\, 96729\, United States
ATTACH;FMTTYPE=image/jpeg:https://aloft.website/wp-content/uploads/2023/03/IMG_1417-scaled-e1731435977465.jpg
END:VEVENT
END:VCALENDAR